BEGIN:VCALENDAR
VERSION:2.0
PRODID:-//Long Road Distillers - ECPv6.15.20//NONSGML v1.0//EN
CALSCALE:GREGORIAN
METHOD:PUBLISH
X-WR-CALNAME:Long Road Distillers
X-ORIGINAL-URL:https://longroaddistillers.com
X-WR-CALDESC:Events for Long Road Distillers
REFRESH-INTERVAL;VALUE=DURATION:PT1H
X-Robots-Tag:noindex
X-PUBLISHED-TTL:PT1H
BEGIN:VTIMEZONE
TZID:America/Detroit
BEGIN:DAYLIGHT
TZOFFSETFROM:-0500
TZOFFSETTO:-0400
TZNAME:EDT
DTSTART:20250309T070000
END:DAYLIGHT
BEGIN:STANDARD
TZOFFSETFROM:-0400
TZOFFSETTO:-0500
TZNAME:EST
DTSTART:20251102T060000
END:STANDARD
BEGIN:DAYLIGHT
TZOFFSETFROM:-0500
TZOFFSETTO:-0400
TZNAME:EDT
DTSTART:20260308T070000
END:DAYLIGHT
BEGIN:STANDARD
TZOFFSETFROM:-0400
TZOFFSETTO:-0500
TZNAME:EST
DTSTART:20261101T060000
END:STANDARD
BEGIN:DAYLIGHT
TZOFFSETFROM:-0500
TZOFFSETTO:-0400
TZNAME:EDT
DTSTART:20270314T070000
END:DAYLIGHT
BEGIN:STANDARD
TZOFFSETFROM:-0400
TZOFFSETTO:-0500
TZNAME:EST
DTSTART:20271107T060000
END:STANDARD
END:VTIMEZONE
BEGIN:VEVENT
DTSTART;VALUE=DATE:20260428
DTEND;VALUE=DATE:20260429
DTSTAMP:20260425T161535
CREATED:20260210T164052Z
LAST-MODIFIED:20260401T162608Z
UID:2531093-1777334400-1777420799@longroaddistillers.com
SUMMARY:Tropical Tuesday's at Less Traveled
DESCRIPTION:Soak up the island vibes every single Tuesday! Dive into our exclusive cocktail menu\, brimming with bright citrus\, creamy coconut\, and lush tropical fruits. Think of it as a mini-vacation in a glass. \nNo passport required. Come turn an ordinary Tuesday into a vibrant tropical getaway.
URL:https://longroaddistillers.com/event/tropical-tuesdays-at-less-traveled/2026-04-28/
LOCATION:Less Traveled\, 959 Cherry Street SE\, Grand Rapids\, MI\, 49504\, United States
CATEGORIES:Tuesday
ATTACH;FMTTYPE=image/jpeg:https://longroaddistillers.com/wp-content/uploads/2026/02/Tropical.jpg
END:VEVENT
BEGIN:VEVENT
DTSTART;TZID=America/Detroit:20260428T170000
DTEND;TZID=America/Detroit:20260428T230000
DTSTAMP:20260425T161535
CREATED:20231110T135551Z
LAST-MODIFIED:20240807T150321Z
UID:25940-1777395600-1777417200@longroaddistillers.com
SUMMARY:Industry Night - Less Traveled
DESCRIPTION:Industry members enjoy 40% off menu priced cocktails from open to close.
URL:https://longroaddistillers.com/event/industry-night-less-traveled/2026-04-28/
LOCATION:Less Traveled\, 959 Cherry Street SE\, Grand Rapids\, MI\, 49504\, United States
CATEGORIES:Tuesday,Weekly Specials
ATTACH;FMTTYPE=image/jpeg:https://longroaddistillers.com/wp-content/uploads/2023/11/MG_3539.jpg
END:VEVENT
BEGIN:VEVENT
DTSTART;VALUE=DATE:20260505
DTEND;VALUE=DATE:20260506
DTSTAMP:20260425T161535
CREATED:20260210T164052Z
LAST-MODIFIED:20260401T162608Z
UID:2531094-1777939200-1778025599@longroaddistillers.com
SUMMARY:Tropical Tuesday's at Less Traveled
DESCRIPTION:Soak up the island vibes every single Tuesday! Dive into our exclusive cocktail menu\, brimming with bright citrus\, creamy coconut\, and lush tropical fruits. Think of it as a mini-vacation in a glass. \nNo passport required. Come turn an ordinary Tuesday into a vibrant tropical getaway.
URL:https://longroaddistillers.com/event/tropical-tuesdays-at-less-traveled/2026-05-05/
LOCATION:Less Traveled\, 959 Cherry Street SE\, Grand Rapids\, MI\, 49504\, United States
CATEGORIES:Tuesday
ATTACH;FMTTYPE=image/jpeg:https://longroaddistillers.com/wp-content/uploads/2026/02/Tropical.jpg
END:VEVENT
BEGIN:VEVENT
DTSTART;TZID=America/Detroit:20260505T170000
DTEND;TZID=America/Detroit:20260505T230000
DTSTAMP:20260425T161535
CREATED:20231110T135551Z
LAST-MODIFIED:20240807T150323Z
UID:25982-1778000400-1778022000@longroaddistillers.com
SUMMARY:Industry Night - Less Traveled
DESCRIPTION:Industry members enjoy 40% off menu priced cocktails from open to close.
URL:https://longroaddistillers.com/event/industry-night-less-traveled/2026-05-05/
LOCATION:Less Traveled\, 959 Cherry Street SE\, Grand Rapids\, MI\, 49504\, United States
CATEGORIES:Tuesday,Weekly Specials
ATTACH;FMTTYPE=image/jpeg:https://longroaddistillers.com/wp-content/uploads/2023/11/MG_3539.jpg
END:VEVENT
BEGIN:VEVENT
DTSTART;VALUE=DATE:20260512
DTEND;VALUE=DATE:20260513
DTSTAMP:20260425T161535
CREATED:20260210T164052Z
LAST-MODIFIED:20260401T162608Z
UID:2531095-1778544000-1778630399@longroaddistillers.com
SUMMARY:Tropical Tuesday's at Less Traveled
DESCRIPTION:Soak up the island vibes every single Tuesday! Dive into our exclusive cocktail menu\, brimming with bright citrus\, creamy coconut\, and lush tropical fruits. Think of it as a mini-vacation in a glass. \nNo passport required. Come turn an ordinary Tuesday into a vibrant tropical getaway.
URL:https://longroaddistillers.com/event/tropical-tuesdays-at-less-traveled/2026-05-12/
LOCATION:Less Traveled\, 959 Cherry Street SE\, Grand Rapids\, MI\, 49504\, United States
CATEGORIES:Tuesday
ATTACH;FMTTYPE=image/jpeg:https://longroaddistillers.com/wp-content/uploads/2026/02/Tropical.jpg
END:VEVENT
BEGIN:VEVENT
DTSTART;TZID=America/Detroit:20260512T170000
DTEND;TZID=America/Detroit:20260512T230000
DTSTAMP:20260425T161535
CREATED:20231110T135551Z
LAST-MODIFIED:20240807T150323Z
UID:26018-1778605200-1778626800@longroaddistillers.com
SUMMARY:Industry Night - Less Traveled
DESCRIPTION:Industry members enjoy 40% off menu priced cocktails from open to close.
URL:https://longroaddistillers.com/event/industry-night-less-traveled/2026-05-12/
LOCATION:Less Traveled\, 959 Cherry Street SE\, Grand Rapids\, MI\, 49504\, United States
CATEGORIES:Tuesday,Weekly Specials
ATTACH;FMTTYPE=image/jpeg:https://longroaddistillers.com/wp-content/uploads/2023/11/MG_3539.jpg
END:VEVENT
BEGIN:VEVENT
DTSTART;VALUE=DATE:20260519
DTEND;VALUE=DATE:20260520
DTSTAMP:20260425T161535
CREATED:20260210T164052Z
LAST-MODIFIED:20260401T162608Z
UID:2531096-1779148800-1779235199@longroaddistillers.com
SUMMARY:Tropical Tuesday's at Less Traveled
DESCRIPTION:Soak up the island vibes every single Tuesday! Dive into our exclusive cocktail menu\, brimming with bright citrus\, creamy coconut\, and lush tropical fruits. Think of it as a mini-vacation in a glass. \nNo passport required. Come turn an ordinary Tuesday into a vibrant tropical getaway.
URL:https://longroaddistillers.com/event/tropical-tuesdays-at-less-traveled/2026-05-19/
LOCATION:Less Traveled\, 959 Cherry Street SE\, Grand Rapids\, MI\, 49504\, United States
CATEGORIES:Tuesday
ATTACH;FMTTYPE=image/jpeg:https://longroaddistillers.com/wp-content/uploads/2026/02/Tropical.jpg
END:VEVENT
BEGIN:VEVENT
DTSTART;TZID=America/Detroit:20260519T170000
DTEND;TZID=America/Detroit:20260519T230000
DTSTAMP:20260425T161535
CREATED:20231110T135551Z
LAST-MODIFIED:20240807T150323Z
UID:26035-1779210000-1779231600@longroaddistillers.com
SUMMARY:Industry Night - Less Traveled
DESCRIPTION:Industry members enjoy 40% off menu priced cocktails from open to close.
URL:https://longroaddistillers.com/event/industry-night-less-traveled/2026-05-19/
LOCATION:Less Traveled\, 959 Cherry Street SE\, Grand Rapids\, MI\, 49504\, United States
CATEGORIES:Tuesday,Weekly Specials
ATTACH;FMTTYPE=image/jpeg:https://longroaddistillers.com/wp-content/uploads/2023/11/MG_3539.jpg
END:VEVENT
BEGIN:VEVENT
DTSTART;VALUE=DATE:20260526
DTEND;VALUE=DATE:20260527
DTSTAMP:20260425T161535
CREATED:20260210T164052Z
LAST-MODIFIED:20260401T162608Z
UID:2531097-1779753600-1779839999@longroaddistillers.com
SUMMARY:Tropical Tuesday's at Less Traveled
DESCRIPTION:Soak up the island vibes every single Tuesday! Dive into our exclusive cocktail menu\, brimming with bright citrus\, creamy coconut\, and lush tropical fruits. Think of it as a mini-vacation in a glass. \nNo passport required. Come turn an ordinary Tuesday into a vibrant tropical getaway.
URL:https://longroaddistillers.com/event/tropical-tuesdays-at-less-traveled/2026-05-26/
LOCATION:Less Traveled\, 959 Cherry Street SE\, Grand Rapids\, MI\, 49504\, United States
CATEGORIES:Tuesday
ATTACH;FMTTYPE=image/jpeg:https://longroaddistillers.com/wp-content/uploads/2026/02/Tropical.jpg
END:VEVENT
BEGIN:VEVENT
DTSTART;TZID=America/Detroit:20260526T170000
DTEND;TZID=America/Detroit:20260526T230000
DTSTAMP:20260425T161535
CREATED:20231110T135551Z
LAST-MODIFIED:20240807T150323Z
UID:26065-1779814800-1779836400@longroaddistillers.com
SUMMARY:Industry Night - Less Traveled
DESCRIPTION:Industry members enjoy 40% off menu priced cocktails from open to close.
URL:https://longroaddistillers.com/event/industry-night-less-traveled/2026-05-26/
LOCATION:Less Traveled\, 959 Cherry Street SE\, Grand Rapids\, MI\, 49504\, United States
CATEGORIES:Tuesday,Weekly Specials
ATTACH;FMTTYPE=image/jpeg:https://longroaddistillers.com/wp-content/uploads/2023/11/MG_3539.jpg
END:VEVENT
BEGIN:VEVENT
DTSTART;TZID=America/Detroit:20260601T190000
DTEND;TZID=America/Detroit:20260601T203000
DTSTAMP:20260425T161535
CREATED:20260416T164215Z
LAST-MODIFIED:20260416T164215Z
UID:2531563-1780340400-1780345800@longroaddistillers.com
SUMMARY:Let's Drink Whisky Cocktail Class at Less Traveled
DESCRIPTION:Discover the world of whisky in this hands-on cocktail class. Guests will explore the history and creation of whisky\, learn how to balance it in cocktails\, and craft two drinks of their own along the way. Perfect for beginners and whisky lovers alike\, this class is equal parts education and fun! \nGet your tickets here!
URL:https://longroaddistillers.com/event/lets-drink-whisky-cocktail-class-at-less-traveled/
LOCATION:Less Traveled\, 959 Cherry Street SE\, Grand Rapids\, MI\, 49504\, United States
CATEGORIES:Special Event
ATTACH;FMTTYPE=image/png:https://longroaddistillers.com/wp-content/uploads/2026/04/LT-Intro-Spirits-Cocktail-Classes-2026-e1776357656374.png
END:VEVENT
BEGIN:VEVENT
DTSTART;VALUE=DATE:20260602
DTEND;VALUE=DATE:20260603
DTSTAMP:20260425T161535
CREATED:20260210T164052Z
LAST-MODIFIED:20260401T162609Z
UID:2531098-1780358400-1780444799@longroaddistillers.com
SUMMARY:Tropical Tuesday's at Less Traveled
DESCRIPTION:Soak up the island vibes every single Tuesday! Dive into our exclusive cocktail menu\, brimming with bright citrus\, creamy coconut\, and lush tropical fruits. Think of it as a mini-vacation in a glass. \nNo passport required. Come turn an ordinary Tuesday into a vibrant tropical getaway.
URL:https://longroaddistillers.com/event/tropical-tuesdays-at-less-traveled/2026-06-02/
LOCATION:Less Traveled\, 959 Cherry Street SE\, Grand Rapids\, MI\, 49504\, United States
CATEGORIES:Tuesday
ATTACH;FMTTYPE=image/jpeg:https://longroaddistillers.com/wp-content/uploads/2026/02/Tropical.jpg
END:VEVENT
BEGIN:VEVENT
DTSTART;TZID=America/Detroit:20260602T170000
DTEND;TZID=America/Detroit:20260602T230000
DTSTAMP:20260425T161535
CREATED:20231110T135551Z
LAST-MODIFIED:20240807T150323Z
UID:26089-1780419600-1780441200@longroaddistillers.com
SUMMARY:Industry Night - Less Traveled
DESCRIPTION:Industry members enjoy 40% off menu priced cocktails from open to close.
URL:https://longroaddistillers.com/event/industry-night-less-traveled/2026-06-02/
LOCATION:Less Traveled\, 959 Cherry Street SE\, Grand Rapids\, MI\, 49504\, United States
CATEGORIES:Tuesday,Weekly Specials
ATTACH;FMTTYPE=image/jpeg:https://longroaddistillers.com/wp-content/uploads/2023/11/MG_3539.jpg
END:VEVENT
BEGIN:VEVENT
DTSTART;VALUE=DATE:20260609
DTEND;VALUE=DATE:20260610
DTSTAMP:20260425T161535
CREATED:20260210T164052Z
LAST-MODIFIED:20260401T162609Z
UID:2531099-1780963200-1781049599@longroaddistillers.com
SUMMARY:Tropical Tuesday's at Less Traveled
DESCRIPTION:Soak up the island vibes every single Tuesday! Dive into our exclusive cocktail menu\, brimming with bright citrus\, creamy coconut\, and lush tropical fruits. Think of it as a mini-vacation in a glass. \nNo passport required. Come turn an ordinary Tuesday into a vibrant tropical getaway.
URL:https://longroaddistillers.com/event/tropical-tuesdays-at-less-traveled/2026-06-09/
LOCATION:Less Traveled\, 959 Cherry Street SE\, Grand Rapids\, MI\, 49504\, United States
CATEGORIES:Tuesday
ATTACH;FMTTYPE=image/jpeg:https://longroaddistillers.com/wp-content/uploads/2026/02/Tropical.jpg
END:VEVENT
BEGIN:VEVENT
DTSTART;TZID=America/Detroit:20260609T170000
DTEND;TZID=America/Detroit:20260609T230000
DTSTAMP:20260425T161535
CREATED:20231110T135551Z
LAST-MODIFIED:20240807T150323Z
UID:26123-1781024400-1781046000@longroaddistillers.com
SUMMARY:Industry Night - Less Traveled
DESCRIPTION:Industry members enjoy 40% off menu priced cocktails from open to close.
URL:https://longroaddistillers.com/event/industry-night-less-traveled/2026-06-09/
LOCATION:Less Traveled\, 959 Cherry Street SE\, Grand Rapids\, MI\, 49504\, United States
CATEGORIES:Tuesday,Weekly Specials
ATTACH;FMTTYPE=image/jpeg:https://longroaddistillers.com/wp-content/uploads/2023/11/MG_3539.jpg
END:VEVENT
BEGIN:VEVENT
DTSTART;VALUE=DATE:20260616
DTEND;VALUE=DATE:20260617
DTSTAMP:20260425T161535
CREATED:20260210T164052Z
LAST-MODIFIED:20260401T162609Z
UID:2531100-1781568000-1781654399@longroaddistillers.com
SUMMARY:Tropical Tuesday's at Less Traveled
DESCRIPTION:Soak up the island vibes every single Tuesday! Dive into our exclusive cocktail menu\, brimming with bright citrus\, creamy coconut\, and lush tropical fruits. Think of it as a mini-vacation in a glass. \nNo passport required. Come turn an ordinary Tuesday into a vibrant tropical getaway.
URL:https://longroaddistillers.com/event/tropical-tuesdays-at-less-traveled/2026-06-16/
LOCATION:Less Traveled\, 959 Cherry Street SE\, Grand Rapids\, MI\, 49504\, United States
CATEGORIES:Tuesday
ATTACH;FMTTYPE=image/jpeg:https://longroaddistillers.com/wp-content/uploads/2026/02/Tropical.jpg
END:VEVENT
BEGIN:VEVENT
DTSTART;TZID=America/Detroit:20260616T170000
DTEND;TZID=America/Detroit:20260616T230000
DTSTAMP:20260425T161535
CREATED:20231110T135551Z
LAST-MODIFIED:20240807T150324Z
UID:26200-1781629200-1781650800@longroaddistillers.com
SUMMARY:Industry Night - Less Traveled
DESCRIPTION:Industry members enjoy 40% off menu priced cocktails from open to close.
URL:https://longroaddistillers.com/event/industry-night-less-traveled/2026-06-16/
LOCATION:Less Traveled\, 959 Cherry Street SE\, Grand Rapids\, MI\, 49504\, United States
CATEGORIES:Tuesday,Weekly Specials
ATTACH;FMTTYPE=image/jpeg:https://longroaddistillers.com/wp-content/uploads/2023/11/MG_3539.jpg
END:VEVENT
BEGIN:VEVENT
DTSTART;VALUE=DATE:20260623
DTEND;VALUE=DATE:20260624
DTSTAMP:20260425T161535
CREATED:20260210T164052Z
LAST-MODIFIED:20260401T162609Z
UID:2531101-1782172800-1782259199@longroaddistillers.com
SUMMARY:Tropical Tuesday's at Less Traveled
DESCRIPTION:Soak up the island vibes every single Tuesday! Dive into our exclusive cocktail menu\, brimming with bright citrus\, creamy coconut\, and lush tropical fruits. Think of it as a mini-vacation in a glass. \nNo passport required. Come turn an ordinary Tuesday into a vibrant tropical getaway.
URL:https://longroaddistillers.com/event/tropical-tuesdays-at-less-traveled/2026-06-23/
LOCATION:Less Traveled\, 959 Cherry Street SE\, Grand Rapids\, MI\, 49504\, United States
CATEGORIES:Tuesday
ATTACH;FMTTYPE=image/jpeg:https://longroaddistillers.com/wp-content/uploads/2026/02/Tropical.jpg
END:VEVENT
BEGIN:VEVENT
DTSTART;TZID=America/Detroit:20260623T170000
DTEND;TZID=America/Detroit:20260623T230000
DTSTAMP:20260425T161535
CREATED:20231110T135551Z
LAST-MODIFIED:20240807T150324Z
UID:26224-1782234000-1782255600@longroaddistillers.com
SUMMARY:Industry Night - Less Traveled
DESCRIPTION:Industry members enjoy 40% off menu priced cocktails from open to close.
URL:https://longroaddistillers.com/event/industry-night-less-traveled/2026-06-23/
LOCATION:Less Traveled\, 959 Cherry Street SE\, Grand Rapids\, MI\, 49504\, United States
CATEGORIES:Tuesday,Weekly Specials
ATTACH;FMTTYPE=image/jpeg:https://longroaddistillers.com/wp-content/uploads/2023/11/MG_3539.jpg
END:VEVENT
BEGIN:VEVENT
DTSTART;VALUE=DATE:20260630
DTEND;VALUE=DATE:20260701
DTSTAMP:20260425T161536
CREATED:20260210T164052Z
LAST-MODIFIED:20260401T162609Z
UID:2531102-1782777600-1782863999@longroaddistillers.com
SUMMARY:Tropical Tuesday's at Less Traveled
DESCRIPTION:Soak up the island vibes every single Tuesday! Dive into our exclusive cocktail menu\, brimming with bright citrus\, creamy coconut\, and lush tropical fruits. Think of it as a mini-vacation in a glass. \nNo passport required. Come turn an ordinary Tuesday into a vibrant tropical getaway.
URL:https://longroaddistillers.com/event/tropical-tuesdays-at-less-traveled/2026-06-30/
LOCATION:Less Traveled\, 959 Cherry Street SE\, Grand Rapids\, MI\, 49504\, United States
CATEGORIES:Tuesday
ATTACH;FMTTYPE=image/jpeg:https://longroaddistillers.com/wp-content/uploads/2026/02/Tropical.jpg
END:VEVENT
BEGIN:VEVENT
DTSTART;TZID=America/Detroit:20260630T170000
DTEND;TZID=America/Detroit:20260630T230000
DTSTAMP:20260425T161536
CREATED:20231110T135551Z
LAST-MODIFIED:20240807T150324Z
UID:26312-1782838800-1782860400@longroaddistillers.com
SUMMARY:Industry Night - Less Traveled
DESCRIPTION:Industry members enjoy 40% off menu priced cocktails from open to close.
URL:https://longroaddistillers.com/event/industry-night-less-traveled/2026-06-30/
LOCATION:Less Traveled\, 959 Cherry Street SE\, Grand Rapids\, MI\, 49504\, United States
CATEGORIES:Tuesday,Weekly Specials
ATTACH;FMTTYPE=image/jpeg:https://longroaddistillers.com/wp-content/uploads/2023/11/MG_3539.jpg
END:VEVENT
BEGIN:VEVENT
DTSTART;VALUE=DATE:20260707
DTEND;VALUE=DATE:20260708
DTSTAMP:20260425T161536
CREATED:20260210T164052Z
LAST-MODIFIED:20260401T162612Z
UID:2531103-1783382400-1783468799@longroaddistillers.com
SUMMARY:Tropical Tuesday's at Less Traveled
DESCRIPTION:Soak up the island vibes every single Tuesday! Dive into our exclusive cocktail menu\, brimming with bright citrus\, creamy coconut\, and lush tropical fruits. Think of it as a mini-vacation in a glass. \nNo passport required. Come turn an ordinary Tuesday into a vibrant tropical getaway.
URL:https://longroaddistillers.com/event/tropical-tuesdays-at-less-traveled/2026-07-07/
LOCATION:Less Traveled\, 959 Cherry Street SE\, Grand Rapids\, MI\, 49504\, United States
CATEGORIES:Tuesday
ATTACH;FMTTYPE=image/jpeg:https://longroaddistillers.com/wp-content/uploads/2026/02/Tropical.jpg
END:VEVENT
BEGIN:VEVENT
DTSTART;TZID=America/Detroit:20260707T170000
DTEND;TZID=America/Detroit:20260707T230000
DTSTAMP:20260425T161536
CREATED:20231110T135551Z
LAST-MODIFIED:20240807T150324Z
UID:26367-1783443600-1783465200@longroaddistillers.com
SUMMARY:Industry Night - Less Traveled
DESCRIPTION:Industry members enjoy 40% off menu priced cocktails from open to close.
URL:https://longroaddistillers.com/event/industry-night-less-traveled/2026-07-07/
LOCATION:Less Traveled\, 959 Cherry Street SE\, Grand Rapids\, MI\, 49504\, United States
CATEGORIES:Tuesday,Weekly Specials
ATTACH;FMTTYPE=image/jpeg:https://longroaddistillers.com/wp-content/uploads/2023/11/MG_3539.jpg
END:VEVENT
BEGIN:VEVENT
DTSTART;VALUE=DATE:20260714
DTEND;VALUE=DATE:20260715
DTSTAMP:20260425T161536
CREATED:20260210T164052Z
LAST-MODIFIED:20260401T162612Z
UID:2531104-1783987200-1784073599@longroaddistillers.com
SUMMARY:Tropical Tuesday's at Less Traveled
DESCRIPTION:Soak up the island vibes every single Tuesday! Dive into our exclusive cocktail menu\, brimming with bright citrus\, creamy coconut\, and lush tropical fruits. Think of it as a mini-vacation in a glass. \nNo passport required. Come turn an ordinary Tuesday into a vibrant tropical getaway.
URL:https://longroaddistillers.com/event/tropical-tuesdays-at-less-traveled/2026-07-14/
LOCATION:Less Traveled\, 959 Cherry Street SE\, Grand Rapids\, MI\, 49504\, United States
CATEGORIES:Tuesday
ATTACH;FMTTYPE=image/jpeg:https://longroaddistillers.com/wp-content/uploads/2026/02/Tropical.jpg
END:VEVENT
BEGIN:VEVENT
DTSTART;TZID=America/Detroit:20260714T170000
DTEND;TZID=America/Detroit:20260714T230000
DTSTAMP:20260425T161536
CREATED:20231110T135551Z
LAST-MODIFIED:20240807T150326Z
UID:26406-1784048400-1784070000@longroaddistillers.com
SUMMARY:Industry Night - Less Traveled
DESCRIPTION:Industry members enjoy 40% off menu priced cocktails from open to close.
URL:https://longroaddistillers.com/event/industry-night-less-traveled/2026-07-14/
LOCATION:Less Traveled\, 959 Cherry Street SE\, Grand Rapids\, MI\, 49504\, United States
CATEGORIES:Tuesday,Weekly Specials
ATTACH;FMTTYPE=image/jpeg:https://longroaddistillers.com/wp-content/uploads/2023/11/MG_3539.jpg
END:VEVENT
BEGIN:VEVENT
DTSTART;TZID=America/Detroit:20260720T190000
DTEND;TZID=America/Detroit:20260720T203000
DTSTAMP:20260425T161536
CREATED:20260416T164705Z
LAST-MODIFIED:20260416T164705Z
UID:2531567-1784574000-1784579400@longroaddistillers.com
SUMMARY:Let's Drink Rum Cocktail Class at Less Traveled
DESCRIPTION:Discover the world of rum in this hands-on cocktail class. Guests will explore the history and creation of rum\, learn how to balance it in cocktails\, and craft two drinks of their own along the way. Perfect for beginners and rum lovers alike\, this class is equal parts education and fun! \nGet your tickets here!
URL:https://longroaddistillers.com/event/lets-drink-rum-cocktail-class-at-less-traveled/
LOCATION:Less Traveled\, 959 Cherry Street SE\, Grand Rapids\, MI\, 49504\, United States
CATEGORIES:Special Event
ATTACH;FMTTYPE=image/png:https://longroaddistillers.com/wp-content/uploads/2026/04/LT-Intro-Spirits-Cocktail-Classes-2026-1-e1776357935959.png
END:VEVENT
BEGIN:VEVENT
DTSTART;VALUE=DATE:20260721
DTEND;VALUE=DATE:20260722
DTSTAMP:20260425T161536
CREATED:20260210T164052Z
LAST-MODIFIED:20260401T162612Z
UID:2531105-1784592000-1784678399@longroaddistillers.com
SUMMARY:Tropical Tuesday's at Less Traveled
DESCRIPTION:Soak up the island vibes every single Tuesday! Dive into our exclusive cocktail menu\, brimming with bright citrus\, creamy coconut\, and lush tropical fruits. Think of it as a mini-vacation in a glass. \nNo passport required. Come turn an ordinary Tuesday into a vibrant tropical getaway.
URL:https://longroaddistillers.com/event/tropical-tuesdays-at-less-traveled/2026-07-21/
LOCATION:Less Traveled\, 959 Cherry Street SE\, Grand Rapids\, MI\, 49504\, United States
CATEGORIES:Tuesday
ATTACH;FMTTYPE=image/jpeg:https://longroaddistillers.com/wp-content/uploads/2026/02/Tropical.jpg
END:VEVENT
BEGIN:VEVENT
DTSTART;TZID=America/Detroit:20260721T170000
DTEND;TZID=America/Detroit:20260721T230000
DTSTAMP:20260425T161536
CREATED:20231110T135551Z
LAST-MODIFIED:20240807T150327Z
UID:26429-1784653200-1784674800@longroaddistillers.com
SUMMARY:Industry Night - Less Traveled
DESCRIPTION:Industry members enjoy 40% off menu priced cocktails from open to close.
URL:https://longroaddistillers.com/event/industry-night-less-traveled/2026-07-21/
LOCATION:Less Traveled\, 959 Cherry Street SE\, Grand Rapids\, MI\, 49504\, United States
CATEGORIES:Tuesday,Weekly Specials
ATTACH;FMTTYPE=image/jpeg:https://longroaddistillers.com/wp-content/uploads/2023/11/MG_3539.jpg
END:VEVENT
BEGIN:VEVENT
DTSTART;VALUE=DATE:20260728
DTEND;VALUE=DATE:20260729
DTSTAMP:20260425T161536
CREATED:20260210T164052Z
LAST-MODIFIED:20260401T162612Z
UID:2531106-1785196800-1785283199@longroaddistillers.com
SUMMARY:Tropical Tuesday's at Less Traveled
DESCRIPTION:Soak up the island vibes every single Tuesday! Dive into our exclusive cocktail menu\, brimming with bright citrus\, creamy coconut\, and lush tropical fruits. Think of it as a mini-vacation in a glass. \nNo passport required. Come turn an ordinary Tuesday into a vibrant tropical getaway.
URL:https://longroaddistillers.com/event/tropical-tuesdays-at-less-traveled/2026-07-28/
LOCATION:Less Traveled\, 959 Cherry Street SE\, Grand Rapids\, MI\, 49504\, United States
CATEGORIES:Tuesday
ATTACH;FMTTYPE=image/jpeg:https://longroaddistillers.com/wp-content/uploads/2026/02/Tropical.jpg
END:VEVENT
BEGIN:VEVENT
DTSTART;TZID=America/Detroit:20260728T170000
DTEND;TZID=America/Detroit:20260728T230000
DTSTAMP:20260425T161536
CREATED:20231110T135551Z
LAST-MODIFIED:20240807T150327Z
UID:26450-1785258000-1785279600@longroaddistillers.com
SUMMARY:Industry Night - Less Traveled
DESCRIPTION:Industry members enjoy 40% off menu priced cocktails from open to close.
URL:https://longroaddistillers.com/event/industry-night-less-traveled/2026-07-28/
LOCATION:Less Traveled\, 959 Cherry Street SE\, Grand Rapids\, MI\, 49504\, United States
CATEGORIES:Tuesday,Weekly Specials
ATTACH;FMTTYPE=image/jpeg:https://longroaddistillers.com/wp-content/uploads/2023/11/MG_3539.jpg
END:VEVENT
END:VCALENDAR