BEGIN:VCALENDAR
VERSION:2.0
PRODID:-//Long Road Distillers - ECPv6.15.20//NONSGML v1.0//EN
CALSCALE:GREGORIAN
METHOD:PUBLISH
X-ORIGINAL-URL:https://longroaddistillers.com
X-WR-CALDESC:Events for Long Road Distillers
REFRESH-INTERVAL;VALUE=DURATION:PT1H
X-Robots-Tag:noindex
X-PUBLISHED-TTL:PT1H
BEGIN:VTIMEZONE
TZID:America/Detroit
BEGIN:DAYLIGHT
TZOFFSETFROM:-0500
TZOFFSETTO:-0400
TZNAME:EDT
DTSTART:20250309T070000
END:DAYLIGHT
BEGIN:STANDARD
TZOFFSETFROM:-0400
TZOFFSETTO:-0500
TZNAME:EST
DTSTART:20251102T060000
END:STANDARD
BEGIN:DAYLIGHT
TZOFFSETFROM:-0500
TZOFFSETTO:-0400
TZNAME:EDT
DTSTART:20260308T070000
END:DAYLIGHT
BEGIN:STANDARD
TZOFFSETFROM:-0400
TZOFFSETTO:-0500
TZNAME:EST
DTSTART:20261101T060000
END:STANDARD
BEGIN:DAYLIGHT
TZOFFSETFROM:-0500
TZOFFSETTO:-0400
TZNAME:EDT
DTSTART:20270314T070000
END:DAYLIGHT
BEGIN:STANDARD
TZOFFSETFROM:-0400
TZOFFSETTO:-0500
TZNAME:EST
DTSTART:20271107T060000
END:STANDARD
END:VTIMEZONE
BEGIN:VEVENT
DTSTART;VALUE=DATE:20260429
DTEND;VALUE=DATE:20260430
DTSTAMP:20260425T170122
CREATED:20260312T150120Z
LAST-MODIFIED:20260312T151036Z
UID:2531318-1777420800-1777507199@longroaddistillers.com
SUMMARY:Good Old Fashioned Wednesdays at Long Road Grand Haven
DESCRIPTION:Get ready to make Wednesdays your favorite day with all things Old Fashioned.\nCome join us for Good Old Fashioned Wednesdays and celebrate the classic cocktail in style!\nSip\, savor\, and experiment:\n\nMidwest Old Fashioned – $5The reliable classic. Straight Bourbon\, Orange Liqueur\, Cherry Liqueur\, aromatic bitters.\n\nWeekly Featured Old Fashioned – $8Enjoy a weekly featured Old Fashioned—traditional\, with a twist.\n\nYou Call It Old Fashioned – $10Pick your spirit\, and we’ll turn it into an Old Fashioned masterpiece.\n\nWhether you stick with the classic\, explore the feature\, or go full DIY\, there’s an Old Fashioned for every mood.
URL:https://longroaddistillers.com/event/good-old-fashioned-wednesdays-at-long-road-grand-haven/2026-04-29/
LOCATION:Long Road Distillers – Grand Haven\, 18 Washington Ave\, Grand Haven\, MI\, 49417\, United States
CATEGORIES:Wednesday,Weekly Specials
ATTACH;FMTTYPE=image/jpeg:https://longroaddistillers.com/wp-content/uploads/2026/03/Old-Fashioned-Wednesday-GH-8-e1773327594315.jpg
END:VEVENT
BEGIN:VEVENT
DTSTART;VALUE=DATE:20260506
DTEND;VALUE=DATE:20260507
DTSTAMP:20260425T170122
CREATED:20260312T150120Z
LAST-MODIFIED:20260312T151036Z
UID:2531319-1778025600-1778111999@longroaddistillers.com
SUMMARY:Good Old Fashioned Wednesdays at Long Road Grand Haven
DESCRIPTION:Get ready to make Wednesdays your favorite day with all things Old Fashioned.\nCome join us for Good Old Fashioned Wednesdays and celebrate the classic cocktail in style!\nSip\, savor\, and experiment:\n\nMidwest Old Fashioned – $5The reliable classic. Straight Bourbon\, Orange Liqueur\, Cherry Liqueur\, aromatic bitters.\n\nWeekly Featured Old Fashioned – $8Enjoy a weekly featured Old Fashioned—traditional\, with a twist.\n\nYou Call It Old Fashioned – $10Pick your spirit\, and we’ll turn it into an Old Fashioned masterpiece.\n\nWhether you stick with the classic\, explore the feature\, or go full DIY\, there’s an Old Fashioned for every mood.
URL:https://longroaddistillers.com/event/good-old-fashioned-wednesdays-at-long-road-grand-haven/2026-05-06/
LOCATION:Long Road Distillers – Grand Haven\, 18 Washington Ave\, Grand Haven\, MI\, 49417\, United States
CATEGORIES:Wednesday,Weekly Specials
ATTACH;FMTTYPE=image/jpeg:https://longroaddistillers.com/wp-content/uploads/2026/03/Old-Fashioned-Wednesday-GH-8-e1773327594315.jpg
END:VEVENT
BEGIN:VEVENT
DTSTART;VALUE=DATE:20260513
DTEND;VALUE=DATE:20260514
DTSTAMP:20260425T170122
CREATED:20260312T150120Z
LAST-MODIFIED:20260312T151036Z
UID:2531320-1778630400-1778716799@longroaddistillers.com
SUMMARY:Good Old Fashioned Wednesdays at Long Road Grand Haven
DESCRIPTION:Get ready to make Wednesdays your favorite day with all things Old Fashioned.\nCome join us for Good Old Fashioned Wednesdays and celebrate the classic cocktail in style!\nSip\, savor\, and experiment:\n\nMidwest Old Fashioned – $5The reliable classic. Straight Bourbon\, Orange Liqueur\, Cherry Liqueur\, aromatic bitters.\n\nWeekly Featured Old Fashioned – $8Enjoy a weekly featured Old Fashioned—traditional\, with a twist.\n\nYou Call It Old Fashioned – $10Pick your spirit\, and we’ll turn it into an Old Fashioned masterpiece.\n\nWhether you stick with the classic\, explore the feature\, or go full DIY\, there’s an Old Fashioned for every mood.
URL:https://longroaddistillers.com/event/good-old-fashioned-wednesdays-at-long-road-grand-haven/2026-05-13/
LOCATION:Long Road Distillers – Grand Haven\, 18 Washington Ave\, Grand Haven\, MI\, 49417\, United States
CATEGORIES:Wednesday,Weekly Specials
ATTACH;FMTTYPE=image/jpeg:https://longroaddistillers.com/wp-content/uploads/2026/03/Old-Fashioned-Wednesday-GH-8-e1773327594315.jpg
END:VEVENT
BEGIN:VEVENT
DTSTART;VALUE=DATE:20260520
DTEND;VALUE=DATE:20260521
DTSTAMP:20260425T170122
CREATED:20260312T150120Z
LAST-MODIFIED:20260312T151037Z
UID:2531321-1779235200-1779321599@longroaddistillers.com
SUMMARY:Good Old Fashioned Wednesdays at Long Road Grand Haven
DESCRIPTION:Get ready to make Wednesdays your favorite day with all things Old Fashioned.\nCome join us for Good Old Fashioned Wednesdays and celebrate the classic cocktail in style!\nSip\, savor\, and experiment:\n\nMidwest Old Fashioned – $5The reliable classic. Straight Bourbon\, Orange Liqueur\, Cherry Liqueur\, aromatic bitters.\n\nWeekly Featured Old Fashioned – $8Enjoy a weekly featured Old Fashioned—traditional\, with a twist.\n\nYou Call It Old Fashioned – $10Pick your spirit\, and we’ll turn it into an Old Fashioned masterpiece.\n\nWhether you stick with the classic\, explore the feature\, or go full DIY\, there’s an Old Fashioned for every mood.
URL:https://longroaddistillers.com/event/good-old-fashioned-wednesdays-at-long-road-grand-haven/2026-05-20/
LOCATION:Long Road Distillers – Grand Haven\, 18 Washington Ave\, Grand Haven\, MI\, 49417\, United States
CATEGORIES:Wednesday,Weekly Specials
ATTACH;FMTTYPE=image/jpeg:https://longroaddistillers.com/wp-content/uploads/2026/03/Old-Fashioned-Wednesday-GH-8-e1773327594315.jpg
END:VEVENT
BEGIN:VEVENT
DTSTART;TZID=America/Detroit:20260520T183000
DTEND;TZID=America/Detroit:20260520T203000
DTSTAMP:20260425T170122
CREATED:20260417T173756Z
LAST-MODIFIED:20260417T173756Z
UID:2531580-1779301800-1779309000@longroaddistillers.com
SUMMARY:Disney Trivia at Long Road Grand Rapids
DESCRIPTION:The magic is back in action and the Trivia Vault has been reopened at Long Road Grand Rapids! If you know exactly where P. Sherman\, 42 Wallaby Way\, Sydney is\, then save the date for a very important date!\n\n\nWhether you’re a Poor Unfortunate Soul at guessing or a True Hero who can go the distance\, it’s time to put your knowledge to the test. From the Pride Lands to Arendelle\, we’re covering all your favorite cinematic moments.\n\n\nSpots are limited\, and this event will fill up at lightspeed. Assemble your Incredibles and and Bibbidi-Bobbidi-Book It at the link below! Free to play with teams up to 6.\n\n\nCome for the questions. Stay for the cocktails. Leave feeling like royalty.\n\n\nClick here and reserve your table today!
URL:https://longroaddistillers.com/event/disney-trivia-at-long-road-grand-rapids/
LOCATION:Long Road Distillers\, 537 Leonard St NW\, Grand Rapids\, MI\, 49504\, United States
CATEGORIES:Special Event,Wednesday
ATTACH;FMTTYPE=image/jpeg:https://longroaddistillers.com/wp-content/uploads/2026/04/WEDS-MAY-20-630-PM-1-e1776447109585.jpg
END:VEVENT
END:VCALENDAR