BEGIN:VCALENDAR
VERSION:2.0
PRODID:-//Long Road Distillers - ECPv6.15.20//NONSGML v1.0//EN
CALSCALE:GREGORIAN
METHOD:PUBLISH
X-ORIGINAL-URL:https://longroaddistillers.com
X-WR-CALDESC:Events for Long Road Distillers
REFRESH-INTERVAL;VALUE=DURATION:PT1H
X-Robots-Tag:noindex
X-PUBLISHED-TTL:PT1H
BEGIN:VTIMEZONE
TZID:America/Detroit
BEGIN:DAYLIGHT
TZOFFSETFROM:-0500
TZOFFSETTO:-0400
TZNAME:EDT
DTSTART:20250309T070000
END:DAYLIGHT
BEGIN:STANDARD
TZOFFSETFROM:-0400
TZOFFSETTO:-0500
TZNAME:EST
DTSTART:20251102T060000
END:STANDARD
BEGIN:DAYLIGHT
TZOFFSETFROM:-0500
TZOFFSETTO:-0400
TZNAME:EDT
DTSTART:20260308T070000
END:DAYLIGHT
BEGIN:STANDARD
TZOFFSETFROM:-0400
TZOFFSETTO:-0500
TZNAME:EST
DTSTART:20261101T060000
END:STANDARD
BEGIN:DAYLIGHT
TZOFFSETFROM:-0500
TZOFFSETTO:-0400
TZNAME:EDT
DTSTART:20270314T070000
END:DAYLIGHT
BEGIN:STANDARD
TZOFFSETFROM:-0400
TZOFFSETTO:-0500
TZNAME:EST
DTSTART:20271107T060000
END:STANDARD
END:VTIMEZONE
BEGIN:VEVENT
DTSTART;TZID=America/Detroit:20260318T183000
DTEND;TZID=America/Detroit:20260318T203000
DTSTAMP:20260419T081040
CREATED:20260305T143531Z
LAST-MODIFIED:20260305T143531Z
UID:2531301-1773858600-1773865800@longroaddistillers.com
SUMMARY:The Real Housewives Trivia at Long Road Grand Haven
DESCRIPTION:Real Housewives Trivia Night is taking over our monthly trivia lineup!\nFrom the earliest iconic moments to the latest headline making drama\, we’re covering it all. Every franchise\, every era\, every unforgettable meltdown. If you know who flipped the table\, who said “close your legs to married men\,” or who ran through the streets of Scary Island\, this night is for you.\nRally your cast\, arrive early for cocktails\, and get ready to sip\, shout\, and secure your diamond.\nAll the details:• Long Road Distillers\, Grand Haven• Wednesday\, March 18\, 2026• Trivia kicks off at 6:30 PM\nWhat to expect:• Free to play• Teams of up to 6 so choose your cast wisely• Four rounds of 7 drama packed questions• Prize for the top team• No phones during rounds. Save the receipts for after
URL:https://longroaddistillers.com/event/the-real-housewives-trivia-at-long-road-grand-haven/
LOCATION:Long Road Distillers – Grand Haven\, 18 Washington Ave\, Grand Haven\, MI\, 49417\, United States
CATEGORIES:Special Event,Wednesday
ATTACH;FMTTYPE=image/jpeg:https://longroaddistillers.com/wp-content/uploads/2026/03/647009553_1491702036288275_4739738298159331377_n-e1772721197902.jpg
END:VEVENT
END:VCALENDAR